BEGIN:VCALENDAR
VERSION:2.0
PRODID:-//Carers MK - ECPv6.8.2.1//NONSGML v1.0//EN
CALSCALE:GREGORIAN
METHOD:PUBLISH
X-ORIGINAL-URL:https://carersmiltonkeynes.org
X-WR-CALDESC:Events for Carers MK
REFRESH-INTERVAL;VALUE=DURATION:PT1H
X-Robots-Tag:noindex
X-PUBLISHED-TTL:PT1H
BEGIN:VTIMEZONE
TZID:UTC
BEGIN:STANDARD
TZOFFSETFROM:+0000
TZOFFSETTO:+0000
TZNAME:UTC
DTSTART:20240101T000000
END:STANDARD
END:VTIMEZONE
BEGIN:VEVENT
DTSTART;TZID=UTC:20241217T100000
DTEND;TZID=UTC:20241217T113000
DTSTAMP:20260423T090424
CREATED:20240902T174452Z
LAST-MODIFIED:20241126T165132Z
UID:10000814-1734429600-1734435000@carersmiltonkeynes.org
SUMMARY:Christmas Themed Craft Workshop - booking required
DESCRIPTION:Print your own Christmas Cards with artist Alondene Phillips \nJoin us for a Christmas themed craft workshop to learn a mix of printing techniques\, like lino-cutting and block printing and make your own Christmas cards! \nBooking is required. If you would like to attend this workshop\, please book your place via our online booking form.
URL:https://carersmiltonkeynes.org/event/christmas-themed-craft-workshop-booking-required/
LOCATION:Milton Keynes Arts Centre\, Milton Keynes Arts Centre\, Parklands\,\, Milton Keynes\, MK14 5DZ\, United Kingdom
CATEGORIES:Themed Craft Workshops
ATTACH;FMTTYPE=image/png:https://carersmiltonkeynes.org/wp-content/uploads/2024/09/Christmas-Craft-Event-Calendar-Image-Nov-2024.png
END:VEVENT
END:VCALENDAR